BEGIN:VCALENDAR
VERSION:2.0
PRODID:-// - ECPv6.15.13.1//NONSGML v1.0//EN
CALSCALE:GREGORIAN
METHOD:PUBLISH
X-ORIGINAL-URL:https://www.bnaibinah.com
X-WR-CALDESC:Events for 
REFRESH-INTERVAL;VALUE=DURATION:PT1H
X-Robots-Tag:noindex
X-PUBLISHED-TTL:PT1H
BEGIN:VTIMEZONE
TZID:UTC
BEGIN:STANDARD
TZOFFSETFROM:+0000
TZOFFSETTO:+0000
TZNAME:UTC
DTSTART:20250101T000000
END:STANDARD
END:VTIMEZONE
BEGIN:VEVENT
DTSTART;TZID=UTC:20260814T000000
DTEND;TZID=UTC:20260814T000000
DTSTAMP:20260423T094319
CREATED:20250212T220901Z
LAST-MODIFIED:20250212T220901Z
UID:1641-1786665600-1786665600@www.bnaibinah.com
SUMMARY:Family Unity Conference
DESCRIPTION:Strengthening family unity
URL:https://www.bnaibinah.com/event/family-unity-conference/
CATEGORIES:Events
END:VEVENT
END:VCALENDAR